Workbook
Name \a: '[1]Time series'!#REF!
Name \b: '[1]Time series'!#REF!
Name _: [2]EAT12_1!#REF!,[2]EAT12_1!#REF!,[2]EAT12_1!#REF!,[2]EAT12_1!#REF!,[2]EAT12_1!#REF!,[2]EAT12_1!#REF!,[2]EAT12_1!#REF!,[2]EAT12_1!#REF!,[2]EAT12_1!#REF!,[2]EAT12_1!#REF!
Name _______ISC3: [3]ISC01!$B$1:$B$65536+[4]Q_ISC3!$A$1:$IV$23
Name ______ISC3: [3]ISC01!$B$1:$B$65536+[4]Q_ISC3!$A$1:$IV$23
Name _____ISC3: [3]ISC01!$B$1:$B$65536+[4]Q_ISC3!$A$1:$IV$23
Name ____ISC3: [3]ISC01!$B$1:$B$65536+[4]Q_ISC3!$A$1:$IV$23
Name ___aus2: #REF!
Name ___aus2: #REF!
Name ___ISC3: [3]ISC01!$B$1:$B$65536+[4]Q_ISC3!$A$1:$IV$23
Name ___TAB1: #REF!
Name ___TAB1: #REF!
Name ___TAB3: #N/A
Name ___TAB5: #REF!
Name ___TAB5: #REF!
Name __aus2: #REF!
Name __aus2: #REF!
Name __ISC01: [6]Q_ISC1!$A$1:$IV$12
Name __ISC2: [7]Q_ISC2!$A$1:$IV$18
Name __ISC3: [3]ISC01!$B$1:$B$65536+[4]Q_ISC3!$A$1:$IV$23
Name __ISC567: [8]Q_ISC567!$A$1:$IV$23
Name __TAB1: #REF!
Name __TAB1: #REF!
Name __TAB3: #N/A
Name __TAB5: #REF!
Name __TAB5: #REF!
Name _12Y: [2]EAT12_1!#REF!,[2]EAT12_1!#REF!,[2]EAT12_1!#REF!,[2]EAT12_1!#REF!,[2]EAT12_1!#REF!,[2]EAT12_1!#REF!,[2]EAT12_1!#REF!,[2]EAT12_1!#REF!,[2]EAT12_1!#REF!,[2]EAT12_1!#REF!
Name _6Y: [2]EAT12_1!#REF!,[2]EAT12_1!#REF!,[2]EAT12_1!#REF!,[2]EAT12_1!#REF!,[2]EAT12_1!#REF!,[2]EAT12_1!#REF!,[2]EAT12_1!#REF!,[2]EAT12_1!#REF!,[2]EAT12_1!#REF!,[2]EAT12_1!#REF!
Name _aus2: #REF!
Name _aus2: #REF!
Name _EX1: #REF!
Name _EX1: #REF!
Name _EX2: #REF!
Name _EX2: #REF!
Name _Hlk132719567: [9]TeacherQ!#REF!
Name _Hlk90319938: [9]TeacherQ!#REF!
Name _ISC01: [6]Q_ISC1!$A$1:$IV$12
Name _ISC2: [7]Q_ISC2!$A$1:$IV$18
Name _ISC3: [3]ISC01!$B$1:$B$65536+[4]Q_ISC3!$A$1:$IV$23
Name _ISC567: [8]Q_ISC567!$A$1:$IV$23
Name _msoanchor_1: [9]TeacherQ!#REF!
Name _rev: [2]EAT12_1!#REF!,[2]EAT12_1!#REF!,[2]EAT12_1!#REF!,[2]EAT12_1!#REF!,[2]EAT12_1!#REF!,[2]EAT12_1!#REF!,[2]EAT12_1!#REF!,[2]EAT12_1!#REF!,[2]EAT12_1!#REF!,[2]EAT12_1!#REF!
Name _TAB1: #REF!
Name _TAB1: #REF!
Name _TAB3: #N/A
Name _TAB5: #REF!
Name _TAB5: #REF!
Name aa: #REF!
Name aa: #REF!
Name alw: #REF!
Name alw: #REF!
Name asd: [10]POpula!$A$1:$I$1559
Name asdasdas: [11]Data5.11a!$B$3:$C$34
Name aus: #REF!
Name aus: #REF!
Name AUSP: #REF!
Name AUSP: #REF!
Name Australia_5B: [12]GRAD!$E$32:$G$32
Name Austria_5B: [12]GRAD!$E$33:$G$33
Name avg_label: #REF!

Sheet 3.1 pav.
A1: Lietuva. Švietimas šalyje ir regionuose. Mokytojai. Vilnius. 2026
A3: 3.1 pav. Nuo 2018 m. iki 2024 m. Lietuvoje reikšmingai išaugo pradedančiųjų mokytojų, kuriems buvo skirtas mentorius, dalis
A4: Pradedančiųjų mokytojų, nurodžiusių, kad jiems yra paskirtas mentorius, dalis (proc.), EBPO TALIS 2018 m. ir 2024 m. duomenimis
A33: Duomenų šaltinis: Melnikė, Valavičiūtė, Sevalneva, Urbienė, Dudaitė-Zavistanavičienė, 2026
B35: 2018 | C35: 2024
A36: Šanchajus (Kinija) | B36: 67.273294 | C36: 78.782973
A37: Jungtiniai Arabų Emyratai | B37: 43.337571 | C37: 56.178952
A38: Izraelis | B38: 46.64887 | C38: 53.632746
A39: Nyderlandai* | B39: 40.262147 | C39: 50.873347
A40: Pietų Afrikos Respublika | B40: 49.635316 | C40: 48.525526
A41: Naujoji Zelandija* | B41: 56.386617 | C41: 48.222575
A42: Kazachija | B42: 59.291704 | C42: 43.192251
A43: Singapūras | B43: 54.480131 | C43: 42.147241
A44: JAV | B44: 39.214284 | C44: 41.720076
A45: Japonija | B45: 39.863482 | C45: 41.158214
A46: Australija | B46: 36.697192 | C46: 40.6099
A47: Belgija (flam.) | B47: 40.464977 | C47: 40.192265
... A79: Čilė | B79: 7.3795182 | C79: 11.14904
D84: sig_diff | E84: diff_2v1 | G84: diff_pos | H84: diff_neg | I84: diff_nosig | J84: sig_est_1_pos | K84: sig_est_1_neg | L84: sig_est_1_nosig | M84: sig_est_2_pos | N84: sig_est_2_neg | O84: nosig_est_2
A85: Country | B85: 2018 | C85: 2024 | D85: Significant
A86: Šanchajus (Kinija) | B86: 67.273294 | C86: 78.782973 | D86: 1 | E86: =C86-B86 -> 11.509679 | G86: =IF(AND('3.1 pav.'!D86=1,E86>0),E86,#N/A) -> 11.509679 | H86: =IF(AND(D86=1,E86<=0),E86,#N/A) -> #N/A | I86: =IF(D86=0,E86,#N/A) -> #N/A | J86: =IF(AND('3.1 pav.'!D86=1,E86>0),B86,#N/A) -> 67.273294 | K86: =IF(AND(D86=1,E86<=0),B86,#N/A) -> #N/A | L86: =IF(D86=0,B86,#N/A) -> #N/A | M86: =IF(AND('3.1 pav.'!D86=1,E86>0),'3.1 pav.'!C86,#N/A) -> 78.782973 | N86: =IF(AND(D86=1,E86<=0),C86,#N/A) -> #N/A | O86: =IF(D86=0,C86,#N/A) -> #N/A
A87: Jungtiniai Arabų Emyratai | B87: 43.337571 | C87: 56.178952 | D87: 1 | E87: =C87-B87 -> 12.84138 | G87: =IF(AND('3.1 pav.'!D87=1,E87>0),E87,#N/A) -> 12.84138 | H87: =IF(AND(D87=1,E87<=0),E87,#N/A) -> #N/A | I87: =IF(D87=0,E87,#N/A) -> #N/A | J87: =IF(AND('3.1 pav.'!D87=1,E87>0),B87,#N/A) -> 43.337571 | K87: =IF(AND(D87=1,E87<=0),B87,#N/A) -> #N/A | L87: =IF(D87=0,B87,#N/A) -> #N/A | M87: =IF(AND('3.1 pav.'!D87=1,E87>0),'3.1 pav.'!C87,#N/A) -> 56.178952 | N87: =IF(AND(D87=1,E87<=0),C87,#N/A) -> #N/A | O87: =IF(D87=0,C87,#N/A) -> #N/A
A88: Izraelis | B88: 46.64887 | C88: 53.632746 | D88: 0 | E88: =C88-B88 -> 6.9838763 | G88: =IF(AND('3.1 pav.'!D88=1,E88>0),E88,#N/A) -> #N/A | H88: =IF(AND(D88=1,E88<=0),E88,#N/A) -> #N/A | I88: =IF(D88=0,E88,#N/A) -> 6.9838763 | J88: =IF(AND('3.1 pav.'!D88=1,E88>0),B88,#N/A) -> #N/A | K88: =IF(AND(D88=1,E88<=0),B88,#N/A) -> #N/A | L88: =IF(D88=0,B88,#N/A) -> 46.64887 | M88: =IF(AND('3.1 pav.'!D88=1,E88>0),'3.1 pav.'!C88,#N/A) -> #N/A | N88: =IF(AND(D88=1,E88<=0),C88,#N/A) -> #N/A | O88: =IF(D88=0,C88,#N/A) -> 53.632746
A89: Nyderlandai* | B89: 40.262147 | C89: 50.873347 | D89: 0 | E89: =C89-B89 -> 10.6112 | G89: =IF(AND('3.1 pav.'!D89=1,E89>0),E89,#N/A) -> #N/A | H89: =IF(AND(D89=1,E89<=0),E89,#N/A) -> #N/A | I89: =IF(D89=0,E89,#N/A) -> 10.6112 | J89: =IF(AND('3.1 pav.'!D89=1,E89>0),B89,#N/A) -> #N/A | K89: =IF(AND(D89=1,E89<=0),B89,#N/A) -> #N/A | L89: =IF(D89=0,B89,#N/A) -> 40.262147 | M89: =IF(AND('3.1 pav.'!D89=1,E89>0),'3.1 pav.'!C89,#N/A) -> #N/A | N89: =IF(AND(D89=1,E89<=0),C89,#N/A) -> #N/A | O89: =IF(D89=0,C89,#N/A) -> 50.873347
A90: Pietų Afrikos Respublika | B90: 49.635316 | C90: 48.525526 | D90: 0 | E90: =C90-B90 -> -1.1097898 | G90: =IF(AND('3.1 pav.'!D90=1,E90>0),E90,#N/A) -> #N/A | H90: =IF(AND(D90=1,E90<=0),E90,#N/A) -> #N/A | I90: =IF(D90=0,E90,#N/A) -> -1.1097898 | J90: =IF(AND('3.1 pav.'!D90=1,E90>0),B90,#N/A) -> #N/A | K90: =IF(AND(D90=1,E90<=0),B90,#N/A) -> #N/A | L90: =IF(D90=0,B90,#N/A) -> 49.635316 | M90: =IF(AND('3.1 pav.'!D90=1,E90>0),'3.1 pav.'!C90,#N/A) -> #N/A | N90: =IF(AND(D90=1,E90<=0),C90,#N/A) -> #N/A | O90: =IF(D90=0,C90,#N/A) -> 48.525526
A91: Naujoji Zelandija* | B91: 56.386617 | C91: 48.222575 | D91: 0 | E91: =C91-B91 -> -8.1640421 | G91: =IF(AND('3.1 pav.'!D91=1,E91>0),E91,#N/A) -> #N/A | H91: =IF(AND(D91=1,E91<=0),E91,#N/A) -> #N/A | I91: =IF(D91=0,E91,#N/A) -> -8.1640421 | J91: =IF(AND('3.1 pav.'!D91=1,E91>0),B91,#N/A) -> #N/A | K91: =IF(AND(D91=1,E91<=0),B91,#N/A) -> #N/A | L91: =IF(D91=0,B91,#N/A) -> 56.386617 | M91: =IF(AND('3.1 pav.'!D91=1,E91>0),'3.1 pav.'!C91,#N/A) -> #N/A | N91: =IF(AND(D91=1,E91<=0),C91,#N/A) -> #N/A | O91: =IF(D91=0,C91,#N/A) -> 48.222575
A92: Kazachija | B92: 59.291704 | C92: 43.192251 | D92: 1 | E92: =C92-B92 -> -16.099453 | G92: =IF(AND('3.1 pav.'!D92=1,E92>0),E92,#N/A) -> #N/A | H92: =IF(AND(D92=1,E92<=0),E92,#N/A) -> -16.099453 | I92: =IF(D92=0,E92,#N/A) -> #N/A | J92: =IF(AND('3.1 pav.'!D92=1,E92>0),B92,#N/A) -> #N/A | K92: =IF(AND(D92=1,E92<=0),B92,#N/A) -> 59.291704 | L92: =IF(D92=0,B92,#N/A) -> #N/A | M92: =IF(AND('3.1 pav.'!D92=1,E92>0),'3.1 pav.'!C92,#N/A) -> #N/A | N92: =IF(AND(D92=1,E92<=0),C92,#N/A) -> 43.192251 | O92: =IF(D92=0,C92,#N/A) -> #N/A
A93: Singapūras | B93: 54.480131 | C93: 42.147241 | D93: 1 | E93: =C93-B93 -> -12.33289 | G93: =IF(AND('3.1 pav.'!D93=1,E93>0),E93,#N/A) -> #N/A | H93: =IF(AND(D93=1,E93<=0),E93,#N/A) -> -12.33289 | I93: =IF(D93=0,E93,#N/A) -> #N/A | J93: =IF(AND('3.1 pav.'!D93=1,E93>0),B93,#N/A) -> #N/A | K93: =IF(AND(D93=1,E93<=0),B93,#N/A) -> 54.480131 | L93: =IF(D93=0,B93,#N/A) -> #N/A | M93: =IF(AND('3.1 pav.'!D93=1,E93>0),'3.1 pav.'!C93,#N/A) -> #N/A | N93: =IF(AND(D93=1,E93<=0),C93,#N/A) -> 42.147241 | O93: =IF(D93=0,C93,#N/A) -> #N/A
A94: JAV | B94: 39.214284 | C94: 41.720076 | D94: 0 | E94: =C94-B94 -> 2.5057915 | G94: =IF(AND('3.1 pav.'!D94=1,E94>0),E94,#N/A) -> #N/A | H94: =IF(AND(D94=1,E94<=0),E94,#N/A) -> #N/A | I94: =IF(D94=0,E94,#N/A) -> 2.5057915 | J94: =IF(AND('3.1 pav.'!D94=1,E94>0),B94,#N/A) -> #N/A | K94: =IF(AND(D94=1,E94<=0),B94,#N/A) -> #N/A | L94: =IF(D94=0,B94,#N/A) -> 39.214284 | M94: =IF(AND('3.1 pav.'!D94=1,E94>0),'3.1 pav.'!C94,#N/A) -> #N/A | N94: =IF(AND(D94=1,E94<=0),C94,#N/A) -> #N/A | O94: =IF(D94=0,C94,#N/A) -> 41.720076
A95: Japonija | B95: 39.863482 | C95: 41.158214 | D95: 0 | E95: =C95-B95 -> 1.2947323 | G95: =IF(AND('3.1 pav.'!D95=1,E95>0),E95,#N/A) -> #N/A | H95: =IF(AND(D95=1,E95<=0),E95,#N/A) -> #N/A | I95: =IF(D95=0,E95,#N/A) -> 1.2947323 | J95: =IF(AND('3.1 pav.'!D95=1,E95>0),B95,#N/A) -> #N/A | K95: =IF(AND(D95=1,E95<=0),B95,#N/A) -> #N/A | L95: =IF(D95=0,B95,#N/A) -> 39.863482 | M95: =IF(AND('3.1 pav.'!D95=1,E95>0),'3.1 pav.'!C95,#N/A) -> #N/A | N95: =IF(AND(D95=1,E95<=0),C95,#N/A) -> #N/A | O95: =IF(D95=0,C95,#N/A) -> 41.158214
A96: Australija | B96: 36.697192 | C96: 40.6099 | D96: 0 | E96: =C96-B96 -> 3.9127087 | G96: =IF(AND('3.1 pav.'!D96=1,E96>0),E96,#N/A) -> #N/A | H96: =IF(AND(D96=1,E96<=0),E96,#N/A) -> #N/A | I96: =IF(D96=0,E96,#N/A) -> 3.9127087 | J96: =IF(AND('3.1 pav.'!D96=1,E96>0),B96,#N/A) -> #N/A | K96: =IF(AND(D96=1,E96<=0),B96,#N/A) -> #N/A | L96: =IF(D96=0,B96,#N/A) -> 36.697192 | M96: =IF(AND('3.1 pav.'!D96=1,E96>0),'3.1 pav.'!C96,#N/A) -> #N/A | N96: =IF(AND(D96=1,E96<=0),C96,#N/A) -> #N/A | O96: =IF(D96=0,C96,#N/A) -> 40.6099
A97: Belgija (flam.) | B97: 40.464977 | C97: 40.192265 | D97: 0 | E97: =C97-B97 -> -0.2727123 | G97: =IF(AND('3.1 pav.'!D97=1,E97>0),E97,#N/A) -> #N/A | H97: =IF(AND(D97=1,E97<=0),E97,#N/A) -> #N/A | I97: =IF(D97=0,E97,#N/A) -> -0.2727123 | J97: =IF(AND('3.1 pav.'!D97=1,E97>0),B97,#N/A) -> #N/A | K97: =IF(AND(D97=1,E97<=0),B97,#N/A) -> #N/A | L97: =IF(D97=0,B97,#N/A) -> 40.464977 | M97: =IF(AND('3.1 pav.'!D97=1,E97>0),'3.1 pav.'!C97,#N/A) -> #N/A | N97: =IF(AND(D97=1,E97<=0),C97,#N/A) -> #N/A | O97: =IF(D97=0,C97,#N/A) -> 40.192265
... A129: Čilė | B129: 7.3795182 | C129: 11.14904 | D129: 0 | E129: =C129-B129 -> 3.7695218 | G129: =IF(AND('3.1 pav.'!D129=1,E129>0),E129,#N/A) -> #N/A | H129: =IF(AND(D129=1,E129<=0),E129,#N/A) -> #N/A | I129: =IF(D129=0,E129,#N/A) -> 3.7695218 | J129: =IF(AND('3.1 pav.'!D129=1,E129>0),B129,#N/A) -> #N/A | K129: =IF(AND(D129=1,E129<=0),B129,#N/A) -> #N/A | L129: =IF(D129=0,B129,#N/A) -> 7.3795182 | M129: =IF(AND('3.1 pav.'!D129=1,E129>0),'3.1 pav.'!C129,#N/A) -> #N/A | N129: =IF(AND(D129=1,E129<=0),C129,#N/A) -> #N/A | O129: =IF(D129=0,C129,#N/A) -> 11.14904
