Workbook
Name \a: '[1]Time series'!#REF!
Name \b: '[1]Time series'!#REF!
Name _: [2]EAT12_1!#REF!,[2]EAT12_1!#REF!,[2]EAT12_1!#REF!,[2]EAT12_1!#REF!,[2]EAT12_1!#REF!,[2]EAT12_1!#REF!,[2]EAT12_1!#REF!,[2]EAT12_1!#REF!,[2]EAT12_1!#REF!,[2]EAT12_1!#REF!
Name _______ISC3: [3]ISC01!$B$1:$B$65536+[4]Q_ISC3!$A$1:$IV$23
Name ______ISC3: [3]ISC01!$B$1:$B$65536+[4]Q_ISC3!$A$1:$IV$23
Name _____ISC3: [3]ISC01!$B$1:$B$65536+[4]Q_ISC3!$A$1:$IV$23
Name ____ISC3: [3]ISC01!$B$1:$B$65536+[4]Q_ISC3!$A$1:$IV$23
Name ___aus2: #REF!
Name ___aus2: #REF!
Name ___ISC3: [3]ISC01!$B$1:$B$65536+[4]Q_ISC3!$A$1:$IV$23
Name ___TAB1: #REF!
Name ___TAB1: #REF!
Name ___TAB3: #N/A
Name ___TAB5: #REF!
Name ___TAB5: #REF!
Name __aus2: #REF!
Name __aus2: #REF!
Name __ISC01: [6]Q_ISC1!$A$1:$IV$12
Name __ISC2: [7]Q_ISC2!$A$1:$IV$18
Name __ISC3: [3]ISC01!$B$1:$B$65536+[4]Q_ISC3!$A$1:$IV$23
Name __ISC567: [8]Q_ISC567!$A$1:$IV$23
Name __TAB1: #REF!
Name __TAB1: #REF!
Name __TAB3: #N/A
Name __TAB5: #REF!
Name __TAB5: #REF!
Name _12Y: [2]EAT12_1!#REF!,[2]EAT12_1!#REF!,[2]EAT12_1!#REF!,[2]EAT12_1!#REF!,[2]EAT12_1!#REF!,[2]EAT12_1!#REF!,[2]EAT12_1!#REF!,[2]EAT12_1!#REF!,[2]EAT12_1!#REF!,[2]EAT12_1!#REF!
Name _6Y: [2]EAT12_1!#REF!,[2]EAT12_1!#REF!,[2]EAT12_1!#REF!,[2]EAT12_1!#REF!,[2]EAT12_1!#REF!,[2]EAT12_1!#REF!,[2]EAT12_1!#REF!,[2]EAT12_1!#REF!,[2]EAT12_1!#REF!,[2]EAT12_1!#REF!
Name _aus2: #REF!
Name _aus2: #REF!
Name _EX1: #REF!
Name _EX1: #REF!
Name _EX2: #REF!
Name _EX2: #REF!
Name _Hlk132719567: [9]TeacherQ!#REF!
Name _Hlk90319938: [9]TeacherQ!#REF!
Name _ISC01: [6]Q_ISC1!$A$1:$IV$12
Name _ISC2: [7]Q_ISC2!$A$1:$IV$18
Name _ISC3: [3]ISC01!$B$1:$B$65536+[4]Q_ISC3!$A$1:$IV$23
Name _ISC567: [8]Q_ISC567!$A$1:$IV$23
Name _msoanchor_1: [9]TeacherQ!#REF!
Name _rev: [2]EAT12_1!#REF!,[2]EAT12_1!#REF!,[2]EAT12_1!#REF!,[2]EAT12_1!#REF!,[2]EAT12_1!#REF!,[2]EAT12_1!#REF!,[2]EAT12_1!#REF!,[2]EAT12_1!#REF!,[2]EAT12_1!#REF!,[2]EAT12_1!#REF!
Name _TAB1: #REF!
Name _TAB1: #REF!
Name _TAB3: #N/A
Name _TAB5: #REF!
Name _TAB5: #REF!
Name aa: #REF!
Name aa: #REF!
Name alw: #REF!
Name alw: #REF!
Name asd: [10]POpula!$A$1:$I$1559
Name asdasdas: [11]Data5.11a!$B$3:$C$34
Name aus: #REF!
Name aus: #REF!
Name AUSP: #REF!
Name AUSP: #REF!
Name Australia_5B: [12]GRAD!$E$32:$G$32
Name Austria_5B: [12]GRAD!$E$33:$G$33
Name avg_label: #REF!

Sheet 5.2 pav.
A1: Lietuva. Švietimas šalyje ir regionuose 2026. Mokytojai. Vilnius, 2026.
A3: 5.2 pav. Lietuvos mokytojų darbo valandų skaičius per savaitę yra vienas didžiausių tarp EBPO šalių
A4: Vidutinis valandų skaičius, kurį visu darbo krūviu dirbantys mokytojai teigia skyrę įvairioms, su darbu susijusioms, veikloms per pastarąją kalendorinę savaitę, ir jų pokytis, EBPO TALIS 2018 m. ir 2024 m. duomenimis
A34: Pastaba. * Duomenis reikia interpretuoti atsargiai, nes nebuvo pasiekti minimalūs TALIS techniniai standartai.
A36: Duomenų šaltinis: Melnikė, Valavičiūtė, Sevalneva, Urbienė, Dudaitė-Zavistanavičienė, 2026
B38: 2018 | C38: 2024
A39: Japonija | B39: 59.055735 | C39: 55.149989
A40: Naujoji Zelandija* | B40: 47.789627 | C40: 47.517793
A41: Singapūras | B41: 46.311404 | C41: 47.307477
A42: Šanchajus (Kinija) | B42: 45.472296 | C42: 46.905198
A43: Alberta (Kanada)* | B43: 48.680967 | C43: 46.888984
A44: Australija | B44: 46.865471 | C44: 46.452179
A45: LIETUVA | B45: 41.558406 | C45: 45.90836
A46: JAV | B46: 46.652424 | C46: 45.30006
A47: Švedija | B47: 43.987629 | C47: 43.99665
A48: Vietnamas | B48: 47.003996 | C48: 43.943316
A49: Kroatija | B49: 42.572764 | C49: 43.492154
A50: Vengrija | B50: 41.621229 | C50: 43.17314
... A82: Saudo Arabija | B82: 28.573079 | C82: 30.32574
D87: sig_diff | E87: diff_2v1 | G87: diff_pos | H87: diff_neg | I87: diff_nosig | J87: sig_est_1_pos | K87: sig_est_1_neg | L87: sig_est_1_nosig | M87: sig_est_2_pos | N87: sig_est_2_neg | O87: nosig_est_2
A88: Country | B88: 2018 | C88: 2024 | D88: Significant
A89: Japonija | B89: 59.055735 | C89: 55.149989 | D89: 1 | E89: =C89-B89 -> -3.9057457 | G89: =IF(AND('5.2 pav.'!D89=1,E89>0),E89,#N/A) -> #N/A | H89: =IF(AND(D89=1,E89<=0),E89,#N/A) -> -3.9057457 | I89: =IF(D89=0,E89,#N/A) -> #N/A | J89: =IF(AND('5.2 pav.'!D89=1,E89>0),B89,#N/A) -> #N/A | K89: =IF(AND(D89=1,E89<=0),B89,#N/A) -> 59.055735 | L89: =IF(D89=0,B89,#N/A) -> #N/A | M89: =IF(AND('5.2 pav.'!D89=1,E89>0),'5.2 pav.'!C89,#N/A) -> #N/A | N89: =IF(AND(D89=1,E89<=0),C89,#N/A) -> 55.149989 | O89: =IF(D89=0,C89,#N/A) -> #N/A
A90: Naujoji Zelandija* | B90: 47.789627 | C90: 47.517793 | D90: 0 | E90: =C90-B90 -> -0.27183388 | G90: =IF(AND('5.2 pav.'!D90=1,E90>0),E90,#N/A) -> #N/A | H90: =IF(AND(D90=1,E90<=0),E90,#N/A) -> #N/A | I90: =IF(D90=0,E90,#N/A) -> -0.27183388 | J90: =IF(AND('5.2 pav.'!D90=1,E90>0),B90,#N/A) -> #N/A | K90: =IF(AND(D90=1,E90<=0),B90,#N/A) -> #N/A | L90: =IF(D90=0,B90,#N/A) -> 47.789627 | M90: =IF(AND('5.2 pav.'!D90=1,E90>0),'5.2 pav.'!C90,#N/A) -> #N/A | N90: =IF(AND(D90=1,E90<=0),C90,#N/A) -> #N/A | O90: =IF(D90=0,C90,#N/A) -> 47.517793
A91: Singapūras | B91: 46.311404 | C91: 47.307477 | D91: 0 | E91: =C91-B91 -> 0.99607269 | G91: =IF(AND('5.2 pav.'!D91=1,E91>0),E91,#N/A) -> #N/A | H91: =IF(AND(D91=1,E91<=0),E91,#N/A) -> #N/A | I91: =IF(D91=0,E91,#N/A) -> 0.99607269 | J91: =IF(AND('5.2 pav.'!D91=1,E91>0),B91,#N/A) -> #N/A | K91: =IF(AND(D91=1,E91<=0),B91,#N/A) -> #N/A | L91: =IF(D91=0,B91,#N/A) -> 46.311404 | M91: =IF(AND('5.2 pav.'!D91=1,E91>0),'5.2 pav.'!C91,#N/A) -> #N/A | N91: =IF(AND(D91=1,E91<=0),C91,#N/A) -> #N/A | O91: =IF(D91=0,C91,#N/A) -> 47.307477
A92: Šanchajus (Kinija) | B92: 45.472296 | C92: 46.905198 | D92: 1 | E92: =C92-B92 -> 1.432902 | G92: =IF(AND('5.2 pav.'!D92=1,E92>0),E92,#N/A) -> 1.432902 | H92: =IF(AND(D92=1,E92<=0),E92,#N/A) -> #N/A | I92: =IF(D92=0,E92,#N/A) -> #N/A | J92: =IF(AND('5.2 pav.'!D92=1,E92>0),B92,#N/A) -> 45.472296 | K92: =IF(AND(D92=1,E92<=0),B92,#N/A) -> #N/A | L92: =IF(D92=0,B92,#N/A) -> #N/A | M92: =IF(AND('5.2 pav.'!D92=1,E92>0),'5.2 pav.'!C92,#N/A) -> 46.905198 | N92: =IF(AND(D92=1,E92<=0),C92,#N/A) -> #N/A | O92: =IF(D92=0,C92,#N/A) -> #N/A
A93: Alberta (Kanada)* | B93: 48.680967 | C93: 46.888984 | D93: 1 | E93: =C93-B93 -> -1.7919835 | G93: =IF(AND('5.2 pav.'!D93=1,E93>0),E93,#N/A) -> #N/A | H93: =IF(AND(D93=1,E93<=0),E93,#N/A) -> -1.7919835 | I93: =IF(D93=0,E93,#N/A) -> #N/A | J93: =IF(AND('5.2 pav.'!D93=1,E93>0),B93,#N/A) -> #N/A | K93: =IF(AND(D93=1,E93<=0),B93,#N/A) -> 48.680967 | L93: =IF(D93=0,B93,#N/A) -> #N/A | M93: =IF(AND('5.2 pav.'!D93=1,E93>0),'5.2 pav.'!C93,#N/A) -> #N/A | N93: =IF(AND(D93=1,E93<=0),C93,#N/A) -> 46.888984 | O93: =IF(D93=0,C93,#N/A) -> #N/A
A94: Australija | B94: 46.865471 | C94: 46.452179 | D94: 0 | E94: =C94-B94 -> -0.41329161 | G94: =IF(AND('5.2 pav.'!D94=1,E94>0),E94,#N/A) -> #N/A | H94: =IF(AND(D94=1,E94<=0),E94,#N/A) -> #N/A | I94: =IF(D94=0,E94,#N/A) -> -0.41329161 | J94: =IF(AND('5.2 pav.'!D94=1,E94>0),B94,#N/A) -> #N/A | K94: =IF(AND(D94=1,E94<=0),B94,#N/A) -> #N/A | L94: =IF(D94=0,B94,#N/A) -> 46.865471 | M94: =IF(AND('5.2 pav.'!D94=1,E94>0),'5.2 pav.'!C94,#N/A) -> #N/A | N94: =IF(AND(D94=1,E94<=0),C94,#N/A) -> #N/A | O94: =IF(D94=0,C94,#N/A) -> 46.452179
A95: LIETUVA | B95: 41.558406 | C95: 45.90836 | D95: 1 | E95: =C95-B95 -> 4.3499538 | G95: =IF(AND('5.2 pav.'!D95=1,E95>0),E95,#N/A) -> 4.3499538 | H95: =IF(AND(D95=1,E95<=0),E95,#N/A) -> #N/A | I95: =IF(D95=0,E95,#N/A) -> #N/A | J95: =IF(AND('5.2 pav.'!D95=1,E95>0),B95,#N/A) -> 41.558406 | K95: =IF(AND(D95=1,E95<=0),B95,#N/A) -> #N/A | L95: =IF(D95=0,B95,#N/A) -> #N/A | M95: =IF(AND('5.2 pav.'!D95=1,E95>0),'5.2 pav.'!C95,#N/A) -> 45.90836 | N95: =IF(AND(D95=1,E95<=0),C95,#N/A) -> #N/A | O95: =IF(D95=0,C95,#N/A) -> #N/A
A96: JAV | B96: 46.652424 | C96: 45.30006 | D96: 0 | E96: =C96-B96 -> -1.3523637 | G96: =IF(AND('5.2 pav.'!D96=1,E96>0),E96,#N/A) -> #N/A | H96: =IF(AND(D96=1,E96<=0),E96,#N/A) -> #N/A | I96: =IF(D96=0,E96,#N/A) -> -1.3523637 | J96: =IF(AND('5.2 pav.'!D96=1,E96>0),B96,#N/A) -> #N/A | K96: =IF(AND(D96=1,E96<=0),B96,#N/A) -> #N/A | L96: =IF(D96=0,B96,#N/A) -> 46.652424 | M96: =IF(AND('5.2 pav.'!D96=1,E96>0),'5.2 pav.'!C96,#N/A) -> #N/A | N96: =IF(AND(D96=1,E96<=0),C96,#N/A) -> #N/A | O96: =IF(D96=0,C96,#N/A) -> 45.30006
A97: Švedija | B97: 43.987629 | C97: 43.99665 | D97: 0 | E97: =C97-B97 -> 0.0090212632 | G97: =IF(AND('5.2 pav.'!D97=1,E97>0),E97,#N/A) -> #N/A | H97: =IF(AND(D97=1,E97<=0),E97,#N/A) -> #N/A | I97: =IF(D97=0,E97,#N/A) -> 0.0090212632 | J97: =IF(AND('5.2 pav.'!D97=1,E97>0),B97,#N/A) -> #N/A | K97: =IF(AND(D97=1,E97<=0),B97,#N/A) -> #N/A | L97: =IF(D97=0,B97,#N/A) -> 43.987629 | M97: =IF(AND('5.2 pav.'!D97=1,E97>0),'5.2 pav.'!C97,#N/A) -> #N/A | N97: =IF(AND(D97=1,E97<=0),C97,#N/A) -> #N/A | O97: =IF(D97=0,C97,#N/A) -> 43.99665
A98: Vietnamas | B98: 47.003996 | C98: 43.943316 | D98: 1 | E98: =C98-B98 -> -3.0606797 | G98: =IF(AND('5.2 pav.'!D98=1,E98>0),E98,#N/A) -> #N/A | H98: =IF(AND(D98=1,E98<=0),E98,#N/A) -> -3.0606797 | I98: =IF(D98=0,E98,#N/A) -> #N/A | J98: =IF(AND('5.2 pav.'!D98=1,E98>0),B98,#N/A) -> #N/A | K98: =IF(AND(D98=1,E98<=0),B98,#N/A) -> 47.003996 | L98: =IF(D98=0,B98,#N/A) -> #N/A | M98: =IF(AND('5.2 pav.'!D98=1,E98>0),'5.2 pav.'!C98,#N/A) -> #N/A | N98: =IF(AND(D98=1,E98<=0),C98,#N/A) -> 43.943316 | O98: =IF(D98=0,C98,#N/A) -> #N/A
A99: Kroatija | B99: 42.572764 | C99: 43.492154 | D99: 0 | E99: =C99-B99 -> 0.91938941 | G99: =IF(AND('5.2 pav.'!D99=1,E99>0),E99,#N/A) -> #N/A | H99: =IF(AND(D99=1,E99<=0),E99,#N/A) -> #N/A | I99: =IF(D99=0,E99,#N/A) -> 0.91938941 | J99: =IF(AND('5.2 pav.'!D99=1,E99>0),B99,#N/A) -> #N/A | K99: =IF(AND(D99=1,E99<=0),B99,#N/A) -> #N/A | L99: =IF(D99=0,B99,#N/A) -> 42.572764 | M99: =IF(AND('5.2 pav.'!D99=1,E99>0),'5.2 pav.'!C99,#N/A) -> #N/A | N99: =IF(AND(D99=1,E99<=0),C99,#N/A) -> #N/A | O99: =IF(D99=0,C99,#N/A) -> 43.492154
A100: Vengrija | B100: 41.621229 | C100: 43.17314 | D100: 1 | E100: =C100-B100 -> 1.5519114 | G100: =IF(AND('5.2 pav.'!D100=1,E100>0),E100,#N/A) -> 1.5519114 | H100: =IF(AND(D100=1,E100<=0),E100,#N/A) -> #N/A | I100: =IF(D100=0,E100,#N/A) -> #N/A | J100: =IF(AND('5.2 pav.'!D100=1,E100>0),B100,#N/A) -> 41.621229 | K100: =IF(AND(D100=1,E100<=0),B100,#N/A) -> #N/A | L100: =IF(D100=0,B100,#N/A) -> #N/A | M100: =IF(AND('5.2 pav.'!D100=1,E100>0),'5.2 pav.'!C100,#N/A) -> 43.17314 | N100: =IF(AND(D100=1,E100<=0),C100,#N/A) -> #N/A | O100: =IF(D100=0,C100,#N/A) -> #N/A
... A132: Saudo Arabija | B132: 28.573079 | C132: 30.32574 | D132: 0 | E132: =C132-B132 -> 1.7526603 | G132: =IF(AND('5.2 pav.'!D132=1,E132>0),E132,#N/A) -> #N/A | H132: =IF(AND(D132=1,E132<=0),E132,#N/A) -> #N/A | I132: =IF(D132=0,E132,#N/A) -> 1.7526603 | J132: =IF(AND('5.2 pav.'!D132=1,E132>0),B132,#N/A) -> #N/A | K132: =IF(AND(D132=1,E132<=0),B132,#N/A) -> #N/A | L132: =IF(D132=0,B132,#N/A) -> 28.573079 | M132: =IF(AND('5.2 pav.'!D132=1,E132>0),'5.2 pav.'!C132,#N/A) -> #N/A | N132: =IF(AND(D132=1,E132<=0),C132,#N/A) -> #N/A | O132: =IF(D132=0,C132,#N/A) -> 30.32574
